Package: Mergeomics Version: 1.34.0 Command: /home/biocbuild/bbs-3.20-bioc/R/bin/R CMD check --install=check:Mergeomics.install-out.txt --library=/home/biocbuild/bbs-3.20-bioc/R/site-library --timings Mergeomics_1.34.0.tar.gz StartedAt: 2025-02-03 23:52:57 -0500 (Mon, 03 Feb 2025) EndedAt: 2025-02-04 00:03:43 -0500 (Tue, 04 Feb 2025) EllapsedTime: 645.6 seconds RetCode: 0 Status: OK CheckDir: Mergeomics.Rcheck Warnings: 0