Package: Mergeomics Version: 1.34.0 Command: /home/biocbuild/R/R/bin/R CMD build --keep-empty-dirs --no-resave-data Mergeomics StartedAt: 2025-02-04 00:45:50 -0000 (Tue, 04 Feb 2025) EndedAt: 2025-02-04 00:59:28 -0000 (Tue, 04 Feb 2025) EllapsedTime: 818.3 seconds RetCode: 0 Status: OK PackageFile: Mergeomics_1.34.0.tar.gz PackageFileSize: 3.198 MiB