Package: Mergeomics Version: 1.34.0 Command: /home/biocbuild/R/R/bin/R CMD check --install=check:Mergeomics.install-out.txt --library=/home/biocbuild/R/R/site-library --no-vignettes --timings Mergeomics_1.34.0.tar.gz StartedAt: 2025-02-04 08:33:07 -0000 (Tue, 04 Feb 2025) EndedAt: 2025-02-04 08:46:07 -0000 (Tue, 04 Feb 2025) EllapsedTime: 779.9 seconds RetCode: 0 Status: OK CheckDir: Mergeomics.Rcheck Warnings: 0