Package: Mergeomics Version: 1.34.0 Command: /home/biocbuild/R/R/bin/R CMD INSTALL Mergeomics StartedAt: 2025-02-03 20:21:13 -0000 (Mon, 03 Feb 2025) EndedAt: 2025-02-03 20:21:23 -0000 (Mon, 03 Feb 2025) EllapsedTime: 9.5 seconds RetCode: 0 Status: OK