Package: MetCirc Version: 1.36.0 Command: /Library/Frameworks/R.framework/Resources/bin/R CMD build --keep-empty-dirs --no-resave-data MetCirc StartedAt: 2025-02-04 02:54:09 -0500 (Tue, 04 Feb 2025) EndedAt: 2025-02-04 02:55:25 -0500 (Tue, 04 Feb 2025) EllapsedTime: 76.0 seconds RetCode: 0 Status: OK PackageFile: MetCirc_1.36.0.tar.gz PackageFileSize: 2.068 MiB