Package: MetCirc Version: 1.36.0 Command: /Library/Frameworks/R.framework/Resources/bin/R CMD check --install=check:MetCirc.install-out.txt --library=/Library/Frameworks/R.framework/Resources/library --no-vignettes --timings MetCirc_1.36.0.tar.gz StartedAt: 2025-02-05 01:12:47 -0500 (Wed, 05 Feb 2025) EndedAt: 2025-02-05 01:16:16 -0500 (Wed, 05 Feb 2025) EllapsedTime: 209.0 seconds RetCode: 0 Status: OK CheckDir: MetCirc.Rcheck Warnings: 0