Package: MetCirc Version: 1.36.0 Command: rm -rf MetCirc.buildbin-libdir && mkdir MetCirc.buildbin-libdir && /Users/biocbuild/BBS/utils/build-universal.sh MetCirc_1.36.0.tar.gz /Library/Frameworks/R.framework/Resources/bin/R MetCirc.buildbin-libdir StartedAt: 2025-02-11 13:43:38 -0500 (Tue, 11 Feb 2025) EndedAt: 2025-02-11 13:44:32 -0500 (Tue, 11 Feb 2025) EllapsedTime: 53.9 seconds RetCode: 0 Status: OK PackageFile: MetCirc_1.36.0.tgz PackageFileSize: 1.921 MiB