Package: MetCirc Version: 1.36.0 Command: /Library/Frameworks/R.framework/Resources/bin/R CMD build --keep-empty-dirs --no-resave-data MetCirc StartedAt: 2025-02-03 20:10:22 -0500 (Mon, 03 Feb 2025) EndedAt: 2025-02-03 20:12:46 -0500 (Mon, 03 Feb 2025) EllapsedTime: 143.7 seconds RetCode: 0 Status: OK PackageFile: MetCirc_1.36.0.tar.gz PackageFileSize: 2.068 MiB