Package: MetCirc Version: 1.36.0 Command: /Library/Frameworks/R.framework/Resources/bin/R CMD check --install=check:MetCirc.install-out.txt --library=/Library/Frameworks/R.framework/Resources/library --no-vignettes --timings MetCirc_1.36.0.tar.gz StartedAt: 2025-02-11 06:08:31 -0500 (Tue, 11 Feb 2025) EndedAt: 2025-02-11 06:16:13 -0500 (Tue, 11 Feb 2025) EllapsedTime: 461.2 seconds RetCode: 0 Status: OK CheckDir: MetCirc.Rcheck Warnings: 0