Package: MetCirc Version: 1.36.0 Command: /home/biocbuild/R/R/bin/R CMD build --keep-empty-dirs --no-resave-data MetCirc StartedAt: 2025-02-11 00:37:24 -0000 (Tue, 11 Feb 2025) EndedAt: 2025-02-11 00:38:45 -0000 (Tue, 11 Feb 2025) EllapsedTime: 81.0 seconds RetCode: 0 Status: OK PackageFile: MetCirc_1.36.0.tar.gz PackageFileSize: 2.131 MiB