Package: MetCirc Version: 1.36.0 Command: /home/biocbuild/R/R/bin/R CMD check --install=check:MetCirc.install-out.txt --library=/home/biocbuild/R/R/site-library --no-vignettes --timings MetCirc_1.36.0.tar.gz StartedAt: 2025-02-04 08:37:04 -0000 (Tue, 04 Feb 2025) EndedAt: 2025-02-04 08:41:17 -0000 (Tue, 04 Feb 2025) EllapsedTime: 252.3 seconds RetCode: 0 Status: OK CheckDir: MetCirc.Rcheck Warnings: 0