Package: MetMashR Version: 1.0.0 Command: /Library/Frameworks/R.framework/Resources/bin/R CMD build --keep-empty-dirs --no-resave-data MetMashR StartedAt: 2025-02-04 03:18:25 -0500 (Tue, 04 Feb 2025) EndedAt: 2025-02-04 03:23:07 -0500 (Tue, 04 Feb 2025) EllapsedTime: 282.0 seconds RetCode: 1 Status: ERROR PackageFile: None PackageFileSize: NA