Package: MetMashR Version: 1.0.0 Command: /home/biocbuild/R/R/bin/R CMD INSTALL MetMashR StartedAt: 2025-02-10 20:21:50 -0000 (Mon, 10 Feb 2025) EndedAt: 2025-02-10 20:22:31 -0000 (Mon, 10 Feb 2025) EllapsedTime: 41.3 seconds RetCode: 0 Status: OK