Package: MetNet Version: 1.24.0 Command: rm -rf MetNet.buildbin-libdir && mkdir MetNet.buildbin-libdir && /Users/biocbuild/BBS/utils/build-universal.sh MetNet_1.24.0.tar.gz /Library/Frameworks/R.framework/Resources/bin/R MetNet.buildbin-libdir StartedAt: 2025-02-12 15:51:50 -0500 (Wed, 12 Feb 2025) EndedAt: 2025-02-12 15:52:23 -0500 (Wed, 12 Feb 2025) EllapsedTime: 33.1 seconds RetCode: 0 Status: OK PackageFile: MetNet_1.24.0.tgz PackageFileSize: 4.331 MiB