Package: MetNet Version: 1.24.0 Command: /Library/Frameworks/R.framework/Resources/bin/R CMD build --keep-empty-dirs --no-resave-data MetNet StartedAt: 2025-02-04 03:18:28 -0500 (Tue, 04 Feb 2025) EndedAt: 2025-02-04 03:19:23 -0500 (Tue, 04 Feb 2025) EllapsedTime: 54.3 seconds RetCode: 0 Status: OK PackageFile: MetNet_1.24.0.tar.gz PackageFileSize: 4.09 MiB