Package: MetNet Version: 1.24.0 Command: /Library/Frameworks/R.framework/Resources/bin/R CMD check --install=check:MetNet.install-out.txt --library=/Library/Frameworks/R.framework/Resources/library --no-vignettes --timings MetNet_1.24.0.tar.gz StartedAt: 2025-02-12 01:03:10 -0500 (Wed, 12 Feb 2025) EndedAt: 2025-02-12 01:09:49 -0500 (Wed, 12 Feb 2025) EllapsedTime: 399.6 seconds RetCode: 0 Status: OK CheckDir: MetNet.Rcheck Warnings: 0