Package: MetNet Version: 1.24.0 Command: /Library/Frameworks/R.framework/Resources/bin/R CMD INSTALL MetNet StartedAt: 2025-02-10 15:57:04 -0500 (Mon, 10 Feb 2025) EndedAt: 2025-02-10 15:57:35 -0500 (Mon, 10 Feb 2025) EllapsedTime: 31.4 seconds RetCode: 0 Status: OK