Package: MetNet Version: 1.24.0 Command: /Library/Frameworks/R.framework/Resources/bin/R CMD build --keep-empty-dirs --no-resave-data MetNet StartedAt: 2025-02-03 20:15:44 -0500 (Mon, 03 Feb 2025) EndedAt: 2025-02-03 20:17:37 -0500 (Mon, 03 Feb 2025) EllapsedTime: 113.0 seconds RetCode: 0 Status: OK PackageFile: MetNet_1.24.0.tar.gz PackageFileSize: 4.092 MiB