Package: MetNet Version: 1.24.0 Command: /home/biocbuild/bbs-3.20-bioc/R/bin/R CMD build --keep-empty-dirs --no-resave-data --md5 MetNet StartedAt: 2025-02-10 18:03:58 -0500 (Mon, 10 Feb 2025) EndedAt: 2025-02-10 18:04:41 -0500 (Mon, 10 Feb 2025) EllapsedTime: 43.0 seconds RetCode: 0 Status: OK PackageFile: MetNet_1.24.0.tar.gz PackageFileSize: 4.108 MiB