Package: MetNet Version: 1.24.0 Command: chmod a+r MetNet -R && F:\biocbuild\bbs-3.20-bioc\R\bin\R.exe CMD build --keep-empty-dirs --no-resave-data MetNet StartedAt: 2025-02-03 20:19:39 -0500 (Mon, 03 Feb 2025) EndedAt: 2025-02-03 20:20:43 -0500 (Mon, 03 Feb 2025) EllapsedTime: 64.4 seconds RetCode: 0 Status: OK PackageFile: MetNet_1.24.0.tar.gz PackageFileSize: 3.831 MiB