Package: MetNet Version: 1.24.0 Command: /home/biocbuild/R/R/bin/R CMD build --keep-empty-dirs --no-resave-data MetNet StartedAt: 2025-02-04 00:54:53 -0000 (Tue, 04 Feb 2025) EndedAt: 2025-02-04 00:55:48 -0000 (Tue, 04 Feb 2025) EllapsedTime: 55.0 seconds RetCode: 0 Status: OK PackageFile: MetNet_1.24.0.tar.gz PackageFileSize: 3.965 MiB