Package: MetNet Version: 1.24.0 Command: /home/biocbuild/R/R/bin/R CMD INSTALL MetNet StartedAt: 2025-02-03 20:36:55 -0000 (Mon, 03 Feb 2025) EndedAt: 2025-02-03 20:37:28 -0000 (Mon, 03 Feb 2025) EllapsedTime: 33.0 seconds RetCode: 0 Status: OK