Package: MetaCyto Version: 1.28.0 Command: /Library/Frameworks/R.framework/Resources/bin/R CMD build --keep-empty-dirs --no-resave-data MetaCyto StartedAt: 2025-02-04 02:50:50 -0500 (Tue, 04 Feb 2025) EndedAt: 2025-02-04 02:56:37 -0500 (Tue, 04 Feb 2025) EllapsedTime: 346.9 seconds RetCode: 0 Status: OK PackageFile: MetaCyto_1.28.0.tar.gz PackageFileSize: 1.029 MiB