Package: MetaCyto Version: 1.28.0 Command: /Library/Frameworks/R.framework/Resources/bin/R CMD INSTALL MetaCyto StartedAt: 2025-02-03 18:09:30 -0500 (Mon, 03 Feb 2025) EndedAt: 2025-02-03 18:09:46 -0500 (Mon, 03 Feb 2025) EllapsedTime: 16.1 seconds RetCode: 0 Status: OK