Package: MetaCyto Version: 1.28.0 Command: /Library/Frameworks/R.framework/Resources/bin/R CMD build --keep-empty-dirs --no-resave-data MetaCyto StartedAt: 2025-02-03 20:09:00 -0500 (Mon, 03 Feb 2025) EndedAt: 2025-02-03 20:13:42 -0500 (Mon, 03 Feb 2025) EllapsedTime: 281.6 seconds RetCode: 0 Status: OK PackageFile: MetaCyto_1.28.0.tar.gz PackageFileSize: 1.022 MiB