Package: MetaCyto Version: 1.28.0 Command: /Library/Frameworks/R.framework/Resources/bin/R CMD check --install=check:MetaCyto.install-out.txt --library=/Library/Frameworks/R.framework/Resources/library --no-vignettes --timings MetaCyto_1.28.0.tar.gz StartedAt: 2025-02-11 06:06:14 -0500 (Tue, 11 Feb 2025) EndedAt: 2025-02-11 06:14:57 -0500 (Tue, 11 Feb 2025) EllapsedTime: 523.2 seconds RetCode: 0 Status: OK CheckDir: MetaCyto.Rcheck Warnings: 0