Package: MetaCyto Version: 1.28.0 Command: /home/biocbuild/bbs-3.20-bioc/R/bin/R CMD check --install=check:MetaCyto.install-out.txt --library=/home/biocbuild/bbs-3.20-bioc/R/site-library --timings MetaCyto_1.28.0.tar.gz StartedAt: 2025-02-03 23:55:30 -0500 (Mon, 03 Feb 2025) EndedAt: 2025-02-04 00:04:08 -0500 (Tue, 04 Feb 2025) EllapsedTime: 517.5 seconds RetCode: 0 Status: OK CheckDir: MetaCyto.Rcheck Warnings: 0