Package: MetaCyto Version: 1.28.0 Command: /home/biocbuild/bbs-3.20-bioc/R/bin/R CMD INSTALL MetaCyto StartedAt: 2025-02-03 16:07:38 -0500 (Mon, 03 Feb 2025) EndedAt: 2025-02-03 16:07:52 -0500 (Mon, 03 Feb 2025) EllapsedTime: 14.1 seconds RetCode: 0 Status: OK