Package: MetaCyto Version: 1.28.0 Command: F:\biocbuild\bbs-3.20-bioc\R\bin\R.exe CMD check --no-multiarch --install=check:MetaCyto.install-out.txt --library=F:\biocbuild\bbs-3.20-bioc\R\library --no-vignettes --timings MetaCyto_1.28.0.tar.gz StartedAt: 2025-02-04 03:31:38 -0500 (Tue, 04 Feb 2025) EndedAt: 2025-02-04 03:41:13 -0500 (Tue, 04 Feb 2025) EllapsedTime: 575.3 seconds RetCode: 0 Status: OK CheckDir: MetaCyto.Rcheck Warnings: 0