Package: MetaCyto Version: 1.28.0 Command: /home/biocbuild/R/R/bin/R CMD build --keep-empty-dirs --no-resave-data MetaCyto StartedAt: 2025-02-11 00:35:54 -0000 (Tue, 11 Feb 2025) EndedAt: 2025-02-11 00:39:35 -0000 (Tue, 11 Feb 2025) EllapsedTime: 221.1 seconds RetCode: 0 Status: OK PackageFile: MetaCyto_1.28.0.tar.gz PackageFileSize: 981.2 KiB