Package: MetaCyto Version: 1.28.0 Command: /home/biocbuild/R/R/bin/R CMD INSTALL MetaCyto StartedAt: 2025-02-03 21:21:47 -0000 (Mon, 03 Feb 2025) EndedAt: 2025-02-03 21:22:05 -0000 (Mon, 03 Feb 2025) EllapsedTime: 17.2 seconds RetCode: 0 Status: OK