Package: MetaNeighbor Version: 1.26.0 Command: rm -rf MetaNeighbor.buildbin-libdir && mkdir MetaNeighbor.buildbin-libdir && /Users/biocbuild/BBS/utils/build-universal.sh MetaNeighbor_1.26.0.tar.gz /Library/Frameworks/R.framework/Resources/bin/R MetaNeighbor.buildbin-libdir StartedAt: 2025-02-04 13:22:56 -0500 (Tue, 04 Feb 2025) EndedAt: 2025-02-04 13:23:11 -0500 (Tue, 04 Feb 2025) EllapsedTime: 14.5 seconds RetCode: 0 Status: OK PackageFile: MetaNeighbor_1.26.0.tgz PackageFileSize: 4.143 MiB