Package: MetaNeighbor Version: 1.26.0 Command: /Library/Frameworks/R.framework/Resources/bin/R CMD INSTALL MetaNeighbor StartedAt: 2025-02-03 15:27:51 -0500 (Mon, 03 Feb 2025) EndedAt: 2025-02-03 15:28:00 -0500 (Mon, 03 Feb 2025) EllapsedTime: 9.2 seconds RetCode: 0 Status: OK