Package: MetaNeighbor Version: 1.26.0 Command: /home/biocbuild/bbs-3.20-bioc/R/bin/R CMD INSTALL MetaNeighbor StartedAt: 2025-02-10 15:20:38 -0500 (Mon, 10 Feb 2025) EndedAt: 2025-02-10 15:20:42 -0500 (Mon, 10 Feb 2025) EllapsedTime: 3.7 seconds RetCode: 0 Status: OK