Package: MetaNeighbor Version: 1.26.0 Command: F:\biocbuild\bbs-3.20-bioc\R\bin\R.exe CMD INSTALL MetaNeighbor StartedAt: 2025-02-03 16:33:35 -0500 (Mon, 03 Feb 2025) EndedAt: 2025-02-03 16:33:54 -0500 (Mon, 03 Feb 2025) EllapsedTime: 18.7 seconds RetCode: 0 Status: OK