Package: MetaNeighbor Version: 1.26.0 Command: /home/biocbuild/R/R/bin/R CMD INSTALL MetaNeighbor StartedAt: 2025-02-03 20:32:52 -0000 (Mon, 03 Feb 2025) EndedAt: 2025-02-03 20:32:57 -0000 (Mon, 03 Feb 2025) EllapsedTime: 5.0 seconds RetCode: 0 Status: OK