Package: MetaPhOR Version: 1.8.0 Command: /Library/Frameworks/R.framework/Resources/bin/R CMD build --keep-empty-dirs --no-resave-data MetaPhOR StartedAt: 2025-02-03 20:09:47 -0500 (Mon, 03 Feb 2025) EndedAt: 2025-02-03 20:49:48 -0500 (Mon, 03 Feb 2025) EllapsedTime: 2400.3 seconds RetCode: None Status: TIMEOUT PackageFile: None PackageFileSize: NA