Package: MetaPhOR Version: 1.8.0 Command: rm -rf MetaPhOR.buildbin-libdir && mkdir MetaPhOR.buildbin-libdir && F:\biocbuild\bbs-3.20-bioc\R\bin\R.exe CMD INSTALL --build --library=MetaPhOR.buildbin-libdir MetaPhOR_1.8.0.tar.gz StartedAt: 2025-02-04 08:53:08 -0500 (Tue, 04 Feb 2025) EndedAt: 2025-02-04 08:54:06 -0500 (Tue, 04 Feb 2025) EllapsedTime: 57.3 seconds RetCode: 0 Status: OK PackageFile: MetaPhOR_1.8.0.zip PackageFileSize: 2.209 MiB