Package: MetaPhOR Version: 1.8.0 Command: /home/biocbuild/R/R/bin/R CMD build --keep-empty-dirs --no-resave-data MetaPhOR StartedAt: 2025-02-11 00:37:02 -0000 (Tue, 11 Feb 2025) EndedAt: 2025-02-11 00:55:46 -0000 (Tue, 11 Feb 2025) EllapsedTime: 1123.4 seconds RetCode: 0 Status: OK PackageFile: MetaPhOR_1.8.0.tar.gz PackageFileSize: 2.17 MiB