Package: MetaPhOR Version: 1.8.0 Command: /home/biocbuild/R/R/bin/R CMD INSTALL MetaPhOR StartedAt: 2025-02-03 21:13:22 -0000 (Mon, 03 Feb 2025) EndedAt: 2025-02-03 21:13:52 -0000 (Mon, 03 Feb 2025) EllapsedTime: 30.0 seconds RetCode: 0 Status: OK