Package: MetaboAnnotation Version: 1.10.1 Command: rm -rf MetaboAnnotation.buildbin-libdir && mkdir MetaboAnnotation.buildbin-libdir && /Users/biocbuild/BBS/utils/build-universal.sh MetaboAnnotation_1.10.1.tar.gz /Library/Frameworks/R.framework/Resources/bin/R MetaboAnnotation.buildbin-libdir StartedAt: 2025-02-05 16:33:30 -0500 (Wed, 05 Feb 2025) EndedAt: 2025-02-05 16:34:23 -0500 (Wed, 05 Feb 2025) EllapsedTime: 53.3 seconds RetCode: 0 Status: OK PackageFile: MetaboAnnotation_1.10.1.tgz PackageFileSize: 1.746 MiB