Package: MetaboAnnotation Version: 1.10.1 Command: /Library/Frameworks/R.framework/Resources/bin/R CMD build --keep-empty-dirs --no-resave-data MetaboAnnotation StartedAt: 2025-02-11 02:51:39 -0500 (Tue, 11 Feb 2025) EndedAt: 2025-02-11 02:53:42 -0500 (Tue, 11 Feb 2025) EllapsedTime: 122.8 seconds RetCode: 0 Status: OK PackageFile: MetaboAnnotation_1.10.1.tar.gz PackageFileSize: 1.248 MiB