Package: MetaboAnnotation Version: 1.10.1 Command: /Library/Frameworks/R.framework/Resources/bin/R CMD check --install=check:MetaboAnnotation.install-out.txt --library=/Library/Frameworks/R.framework/Resources/library --no-vignettes --timings MetaboAnnotation_1.10.1.tar.gz StartedAt: 2025-02-12 00:28:27 -0500 (Wed, 12 Feb 2025) EndedAt: 2025-02-12 00:34:34 -0500 (Wed, 12 Feb 2025) EllapsedTime: 366.1 seconds RetCode: 0 Status: OK CheckDir: MetaboAnnotation.Rcheck Warnings: 0