Package: MetaboAnnotation Version: 1.10.1 Command: /Library/Frameworks/R.framework/Resources/bin/R CMD INSTALL MetaboAnnotation StartedAt: 2025-02-10 18:03:26 -0500 (Mon, 10 Feb 2025) EndedAt: 2025-02-10 18:04:14 -0500 (Mon, 10 Feb 2025) EllapsedTime: 47.1 seconds RetCode: 0 Status: OK