Package: MetaboAnnotation Version: 1.10.0 Command: /Library/Frameworks/R.framework/Resources/bin/R CMD build --keep-empty-dirs --no-resave-data MetaboAnnotation StartedAt: 2024-11-08 18:00:24 -0500 (Fri, 08 Nov 2024) EndedAt: 2024-11-08 18:01:02 -0500 (Fri, 08 Nov 2024) EllapsedTime: 38.4 seconds RetCode: 0 Status: OK PackageFile: MetaboAnnotation_1.10.0.tar.gz PackageFileSize: 1.248 MiB