Package: MetaboAnnotation Version: 1.10.1 Command: /Library/Frameworks/R.framework/Resources/bin/R CMD build --keep-empty-dirs --no-resave-data MetaboAnnotation StartedAt: 2025-01-30 20:27:37 -0500 (Thu, 30 Jan 2025) EndedAt: 2025-01-30 20:32:08 -0500 (Thu, 30 Jan 2025) EllapsedTime: 271.2 seconds RetCode: 0 Status: OK PackageFile: MetaboAnnotation_1.10.1.tar.gz PackageFileSize: 1.248 MiB