Package: MetaboAnnotation Version: 1.10.1 Command: /Library/Frameworks/R.framework/Resources/bin/R CMD INSTALL MetaboAnnotation StartedAt: 2025-01-30 16:37:51 -0500 (Thu, 30 Jan 2025) EndedAt: 2025-01-30 16:39:17 -0500 (Thu, 30 Jan 2025) EllapsedTime: 86.8 seconds RetCode: 0 Status: OK