Package: MetaboAnnotation Version: 1.10.1 Command: /home/biocbuild/bbs-3.20-bioc/R/bin/R CMD INSTALL MetaboAnnotation StartedAt: 2025-02-03 16:04:09 -0500 (Mon, 03 Feb 2025) EndedAt: 2025-02-03 16:04:53 -0500 (Mon, 03 Feb 2025) EllapsedTime: 44.6 seconds RetCode: 0 Status: OK