Package: MetaboAnnotation Version: 1.10.1 Command: /home/biocbuild/R/R/bin/R CMD build --keep-empty-dirs --no-resave-data MetaboAnnotation StartedAt: 2025-02-04 00:46:43 -0000 (Tue, 04 Feb 2025) EndedAt: 2025-02-04 00:48:36 -0000 (Tue, 04 Feb 2025) EllapsedTime: 113.0 seconds RetCode: 0 Status: OK PackageFile: MetaboAnnotation_1.10.1.tar.gz PackageFileSize: 1.252 MiB