Package: MetaboAnnotation Version: 1.10.1 Command: /home/biocbuild/R/R/bin/R CMD INSTALL MetaboAnnotation StartedAt: 2025-02-03 21:18:40 -0000 (Mon, 03 Feb 2025) EndedAt: 2025-02-03 21:19:30 -0000 (Mon, 03 Feb 2025) EllapsedTime: 50.1 seconds RetCode: 0 Status: OK